BEGIN:VCALENDAR
VERSION:2.0
PRODID:-//THOMAS YOUNG CENTRE - ECPv6.15.17//NONSGML v1.0//EN
CALSCALE:GREGORIAN
METHOD:PUBLISH
X-WR-CALNAME:THOMAS YOUNG CENTRE
X-ORIGINAL-URL:https://thomasyoungcentre.org
X-WR-CALDESC:Events for THOMAS YOUNG CENTRE
REFRESH-INTERVAL;VALUE=DURATION:PT1H
X-Robots-Tag:noindex
X-PUBLISHED-TTL:PT1H
BEGIN:VTIMEZONE
TZID:Europe/London
BEGIN:DAYLIGHT
TZOFFSETFROM:+0000
TZOFFSETTO:+0100
TZNAME:BST
DTSTART:20240331T010000
END:DAYLIGHT
BEGIN:STANDARD
TZOFFSETFROM:+0100
TZOFFSETTO:+0000
TZNAME:GMT
DTSTART:20241027T010000
END:STANDARD
BEGIN:DAYLIGHT
TZOFFSETFROM:+0000
TZOFFSETTO:+0100
TZNAME:BST
DTSTART:20250330T010000
END:DAYLIGHT
BEGIN:STANDARD
TZOFFSETFROM:+0100
TZOFFSETTO:+0000
TZNAME:GMT
DTSTART:20251026T010000
END:STANDARD
BEGIN:DAYLIGHT
TZOFFSETFROM:+0000
TZOFFSETTO:+0100
TZNAME:BST
DTSTART:20260329T010000
END:DAYLIGHT
BEGIN:STANDARD
TZOFFSETFROM:+0100
TZOFFSETTO:+0000
TZNAME:GMT
DTSTART:20261025T010000
END:STANDARD
END:VTIMEZONE
BEGIN:VEVENT
DTSTART;TZID=Europe/London:20251201T160000
DTEND;TZID=Europe/London:20251201T170000
DTSTAMP:20260422T095019
CREATED:20251117T101759Z
LAST-MODIFIED:20251119T115939Z
UID:7175-1764604800-1764608400@thomasyoungcentre.org
SUMMARY:TYC Seminar: Ion-Specific Interactions in Nanoconfinement: Insights from Clay-like Materials
DESCRIPTION:TYC Highlight Seminar: Ion-Specific Interactions in Nanoconfinement: Insights from Clay-like Materials Share on X\n\n\n\n\n\n\n\n\n\nRegister\n\n\n\n\n\n\n\n\nDr Katerina Ioannidou\, CNRS & University of Montpellier\n\n\n\nKaterina Ioannidou is a CNRS Research Scientist at the Laboratory of Mechanics and Civil Engineering (LMGC)\, University of Montpellier. She holds a degree in Physics from the National and Kapodistrian University of Athens and a PhD in Science from ETH Zurich. Before joining CNRS\, she was a postdoctoral researcher in the Department of Civil and Environmental Engineering at MIT. \n\n\n\nHer research focuses on the physics of porous and disordered materials\, with an emphasis on reactive systems such as cement hydrates\, clays\, and geopolymers. She combines statistical-physics modelling\, granular and soft-matter simulations\, and 3D imaging and mechanical characterisation to understand how evolving microstructures control macroscopic mechanical and transport properties. Her work aims to establish predictive\, multi-scale frameworks for materials that are structurally complex and undergo continuous chemical or environmental transformations. \n\n\n\nIn 2024\, she was awarded the CNRS Bronze Medal for her contributions to the multi-scale physics of amorphous and reactive materials. \n\n\n\nTitle: Ion-Specific Interactions in Nanoconfinement: Insights from Clay-like Materials \n\n\n\nAbstract: Clays provide an archetypal example of matter under extreme confinement\, where charged surfaces\, hydration layers and ion-specific interactions create forces that cannot be captured by continuum theories. In this talk\, I will use clays and clay-like systems as a model to explore how molecular interactions shape mesoscale structure and macroscopic behavior in charged disordered materials. \n\n\n\nI will show how potentials of mean force extracted from atomistic simulations reveal the subtle role of hydration structure\, dielectric response and counter-ion identity in controlling swelling forces and aggregation. Using imogolite nanotubes and layered aluminosilicates as case studies\, I will demonstrate how nanoscale mechanisms translate into mesoscale cohesion\, network formation and mechanical response. Finally\, I will discuss how similar ideas underpin other reactive or confined materials such as cement hydrates\, nanoporous carbons and cohesive granular assemblies\, providing a unified physical framework for ion-mediated interactions in disordered solids. \n\n\n\nThe goal is to illustrate how multiscale modelling—from molecular simulations to coarse-grained descriptions—can reveal the physics of confined electrolytes and emergent cohesion in a broad class of soft and porous materials.
URL:https://thomasyoungcentre.org/event/tyc-highlight-seminar-ion-specific-interactions-in-nanoconfinement-insights-from-clay-like-materials/
LOCATION:Skempton Building Room 201\, Imperial College London\, South Kensington\, London\, SW7 2AZ\, United Kingdom
CATEGORIES:Main event
END:VEVENT
END:VCALENDAR