BEGIN:VCALENDAR
VERSION:2.0
PRODID:-//THOMAS YOUNG CENTRE - ECPv6.15.17//NONSGML v1.0//EN
CALSCALE:GREGORIAN
METHOD:PUBLISH
X-WR-CALNAME:THOMAS YOUNG CENTRE
X-ORIGINAL-URL:https://thomasyoungcentre.org
X-WR-CALDESC:Events for THOMAS YOUNG CENTRE
REFRESH-INTERVAL;VALUE=DURATION:PT1H
X-Robots-Tag:noindex
X-PUBLISHED-TTL:PT1H
BEGIN:VTIMEZONE
TZID:Europe/London
BEGIN:DAYLIGHT
TZOFFSETFROM:+0000
TZOFFSETTO:+0100
TZNAME:BST
DTSTART:20210328T010000
END:DAYLIGHT
BEGIN:STANDARD
TZOFFSETFROM:+0100
TZOFFSETTO:+0000
TZNAME:GMT
DTSTART:20211031T010000
END:STANDARD
BEGIN:DAYLIGHT
TZOFFSETFROM:+0000
TZOFFSETTO:+0100
TZNAME:BST
DTSTART:20220327T010000
END:DAYLIGHT
BEGIN:STANDARD
TZOFFSETFROM:+0100
TZOFFSETTO:+0000
TZNAME:GMT
DTSTART:20221030T010000
END:STANDARD
BEGIN:DAYLIGHT
TZOFFSETFROM:+0000
TZOFFSETTO:+0100
TZNAME:BST
DTSTART:20230326T010000
END:DAYLIGHT
BEGIN:STANDARD
TZOFFSETFROM:+0100
TZOFFSETTO:+0000
TZNAME:GMT
DTSTART:20231029T010000
END:STANDARD
BEGIN:DAYLIGHT
TZOFFSETFROM:+0000
TZOFFSETTO:+0100
TZNAME:BST
DTSTART:20240331T010000
END:DAYLIGHT
BEGIN:STANDARD
TZOFFSETFROM:+0100
TZOFFSETTO:+0000
TZNAME:GMT
DTSTART:20241027T010000
END:STANDARD
BEGIN:DAYLIGHT
TZOFFSETFROM:+0000
TZOFFSETTO:+0100
TZNAME:BST
DTSTART:20250330T010000
END:DAYLIGHT
BEGIN:STANDARD
TZOFFSETFROM:+0100
TZOFFSETTO:+0000
TZNAME:GMT
DTSTART:20251026T010000
END:STANDARD
BEGIN:DAYLIGHT
TZOFFSETFROM:+0000
TZOFFSETTO:+0100
TZNAME:BST
DTSTART:20260329T010000
END:DAYLIGHT
BEGIN:STANDARD
TZOFFSETFROM:+0100
TZOFFSETTO:+0000
TZNAME:GMT
DTSTART:20261025T010000
END:STANDARD
END:VTIMEZONE
BEGIN:VEVENT
DTSTART;TZID=Europe/London:20250319T150000
DTEND;TZID=Europe/London:20250319T160000
DTSTAMP:20260421T101914
CREATED:20250314T111652Z
LAST-MODIFIED:20250314T112732Z
UID:6465-1742396400-1742400000@thomasyoungcentre.org
SUMMARY:TYC Journal Club: Interplay between ferroelectricity and metallicity in BaTiO3
DESCRIPTION:TYC Journal Club: Interplay between ferroelectricity and metallicity in BaTiO3 Share on X\n\n\n\n\nJoin us on Monday 20 June at 11am on Zoom. \n\n\n\nIn this meeting\, Teo Cobos will discuss the paper Interplay between ferroelectricity and metallicity in BaTiO3\, authored by Prof. Nicola Spaldin FRS\, a professor of materials science at ETH Zurich\, known for her pioneering research on multiferroics. \n\n\n\nTeo will give a brief introduction to ferroelectrics to make the paper easier to follow\, come along if you would like to see how molecular modelling is applied to different fields (in a more digestible way). \n\n\n\nHope to see you all there!
URL:https://thomasyoungcentre.org/event/tyc-journal-club-interplay-between-ferroelectricity-and-metallicity-in-batio3/
LOCATION:UCL Physics E3/7\, Gower Place\, London\, WC1E6 BN\, United Kingdom
CATEGORIES:Journal Club
ORGANIZER;CN="Teofilo Cobos Friere":MAILTO:teofilo.freire.19@ucl.ac.uk
END:VEVENT
BEGIN:VEVENT
DTSTART;TZID=Europe/London:20220620T110000
DTEND;TZID=Europe/London:20220620T120000
DTSTAMP:20260421T101914
CREATED:20220615T125722Z
LAST-MODIFIED:20220616T090957Z
UID:2841-1655722800-1655726400@thomasyoungcentre.org
SUMMARY:TYC Journal Club: Impact of metastable defect structures on carrier recombination in solar cells
DESCRIPTION:TYC Journal Club: Impact of metastable defect structures on carrier recombination in solar cells  Share on X\n\n\n\n\nJoin us on Monday 20 June at 11am on Zoom. \n\n\n\nIn this meeting\, Seán Kavanagh will discuss his work on: Impact of metastable defect structures on carrier recombination in solar cells \n\n\n\nThe main results: \n\n\n\nWe elucidate the additional pathways for electron-hole recombination (the key limiting factor for solar cell efficiencies) introduced by metastable defects in semiconductors.We show that metastable defects introduce multiple extra recombination pathways\, potentially catalysing the overall recombination rate\, depending on the individual kinetics.We analyse the general trends in behaviour for electron/hole capture by metastable defects\, determining the energetic requirements and conditions under which metastable states are likely to impact recombination.Finally\, we take tellurium interstitials in CdTe as an illustrative example of this behaviour\, where metastable defect structures transform this species from a benign defect centre to a relevant trap state.\n\n\n\nHope to see you all there! \n\n\n\nJoining on Zoom:https://ucl.zoom.us/j/708748699?pwd=MU50Wi9Dc1IyTkcxenRBalY5dm9rZz09 Meeting ID: 708 748 699Password: TYCJC
URL:https://thomasyoungcentre.org/event/tyc-journal-club-impact-of-metastable-defect-structures-on-carrier-recombination-in-solar-cells/
CATEGORIES:Journal Club
ATTACH;FMTTYPE=image/jpeg:https://thomasyoungcentre.org/wp-content/uploads/2021/11/cropped-TYC-Logo_blue_on_white_2.jpg
ORGANIZER;CN="Vasileios Fotopoulos Fotis":MAILTO:vasileios.fotis.19@ucl.ac.uk
END:VEVENT
BEGIN:VEVENT
DTSTART;TZID=Europe/London:20220404T110000
DTEND;TZID=Europe/London:20220404T120000
DTSTAMP:20260421T101914
CREATED:20220324T130359Z
LAST-MODIFIED:20220324T131245Z
UID:2719-1649070000-1649073600@thomasyoungcentre.org
SUMMARY:TYC Journal Club: Moiré materials and flat bands: the case of twisted transition metal dichalcogenides bilayers
DESCRIPTION:Software solutions to the challenges of materials modelling Share on X\n\nSoftware solutions to the challenges of materials modelling Share on X\n\n\n\n\nJoin us on Monday 4 April at 11am on Zoom. \n\n\n\nIn this meeting\, Valerio Vitale will discuss his work on:Moiré materials and flat bands: the case of twisted transition metal dichalcogenides bilayers. \n\n\n\nIntro to the physics of moiré materials and the field of twistronicsFlat bands and electron correlation Twisted transition metal dichalcogenides (TMDs) bilayers as a realisation of moiré materialsChallenges in modelling the atomic and electronic structure of moiré materialsOur multiscale approach: Classical force fields and ab initio tight-bindingResultsConclusions\n\n\n\nHope to see you all there! \n\n\n\nJoining on Zoom:https://ucl.zoom.us/j/708748699?pwd=MU50Wi9Dc1IyTkcxenRBalY5dm9rZz09 Meeting ID: 708 748 699Password: TYCJC
URL:https://thomasyoungcentre.org/event/tyc-journal-club-moire-materials-and-flat-bands-the-case-of-twisted-transition-metal-dichalcogenides-bilayers/
CATEGORIES:Journal Club
ATTACH;FMTTYPE=image/jpeg:https://thomasyoungcentre.org/wp-content/uploads/2021/11/cropped-TYC-Logo_blue_on_white_2.jpg
ORGANIZER;CN="Vasileios Fotopoulos Fotis":MAILTO:vasileios.fotis.19@ucl.ac.uk
END:VEVENT
BEGIN:VEVENT
DTSTART;TZID=Europe/London:20220321T110000
DTEND;TZID=Europe/London:20220321T120000
DTSTAMP:20260421T101914
CREATED:20220318T151744Z
LAST-MODIFIED:20220318T151745Z
UID:2694-1647860400-1647864000@thomasyoungcentre.org
SUMMARY:TYC Journal Club: Controlling the bias in electrochemical systems by means of hair probes methodology
DESCRIPTION:Software solutions to the challenges of materials modelling Share on X\n\nSoftware solutions to the challenges of materials modelling Share on X\n\n\n\n\nJoin us on Monday 21 March\, at 11am on Zoom. \n\n\n\nIn this meeting\, Margherita will discuss her work on:“Controlling the bias in electrochemical systems by means of hair probes methodology” \n\n\n\nFixed bias simulations with open-boundaries description of the electrons;Hair probes approach interfaced with dft calculations;Testing of the current implementation of the methodology within cp2k.\n\n\n\nHope to see you all there! \n\n\n\nJoining on Zoom:https://ucl.zoom.us/j/708748699?pwd=MU50Wi9Dc1IyTkcxenRBalY5dm9rZz09 Meeting ID: 708 748 699Password: TYCJC
URL:https://thomasyoungcentre.org/event/tyc-journal-club-controlling-the-bias-in-electrochemical-systems-by-means-of-hair-probes-methodology/
CATEGORIES:Journal Club
ATTACH;FMTTYPE=image/jpeg:https://thomasyoungcentre.org/wp-content/uploads/2021/11/cropped-TYC-Logo_blue_on_white_2.jpg
ORGANIZER;CN="Vasileios Fotopoulos Fotis":MAILTO:vasileios.fotis.19@ucl.ac.uk
END:VEVENT
END:VCALENDAR